BEGIN:VCALENDAR
VERSION:2.0
PRODID:-//de Blauwe Aarde - ECPv6.15.20//NONSGML v1.0//EN
CALSCALE:GREGORIAN
METHOD:PUBLISH
X-WR-CALNAME:de Blauwe Aarde
X-ORIGINAL-URL:https://www.centrumdeblauweaarde.nl
X-WR-CALDESC:Evenementen voor de Blauwe Aarde
REFRESH-INTERVAL;VALUE=DURATION:PT1H
X-Robots-Tag:noindex
X-PUBLISHED-TTL:PT1H
BEGIN:VTIMEZONE
TZID:Europe/Amsterdam
BEGIN:DAYLIGHT
TZOFFSETFROM:+0100
TZOFFSETTO:+0200
TZNAME:CEST
DTSTART:20230326T010000
END:DAYLIGHT
BEGIN:STANDARD
TZOFFSETFROM:+0200
TZOFFSETTO:+0100
TZNAME:CET
DTSTART:20231029T010000
END:STANDARD
BEGIN:DAYLIGHT
TZOFFSETFROM:+0100
TZOFFSETTO:+0200
TZNAME:CEST
DTSTART:20240331T010000
END:DAYLIGHT
BEGIN:STANDARD
TZOFFSETFROM:+0200
TZOFFSETTO:+0100
TZNAME:CET
DTSTART:20241027T010000
END:STANDARD
BEGIN:DAYLIGHT
TZOFFSETFROM:+0100
TZOFFSETTO:+0200
TZNAME:CEST
DTSTART:20250330T010000
END:DAYLIGHT
BEGIN:STANDARD
TZOFFSETFROM:+0200
TZOFFSETTO:+0100
TZNAME:CET
DTSTART:20251026T010000
END:STANDARD
END:VTIMEZONE
BEGIN:VEVENT
DTSTART;TZID=Europe/Amsterdam:20240622T103000
DTEND;TZID=Europe/Amsterdam:20240624T170000
DTSTAMP:20260425T025907
CREATED:20240610T142906Z
LAST-MODIFIED:20240626T175928Z
UID:1096-1719052200-1719248400@www.centrumdeblauweaarde.nl
SUMMARY:Excursies met Dick van den Dool
DESCRIPTION:Deze maand gaan we weer twee keer op pad met Dick van den Dool. Als je zin hebt mee te gaan\, meldt je dan svp rechtstreeks bij Dick aan\, bij voorkeur via zijn mail [zie hier onder]. Vanaf vrijdag 21e juni verblijft hij bij ons thuis. \n\n\n\nWaarnemingen – Excursies\n\n\n\n\nZaterdag 22 juni: inwerking van volle maan en Zomerzonnewende op Heilige wierden in en om de Fivelboezem\n\n\n\nMaandag 24 juni: bijzondere wierden in Oost-Friesland (BRD).Ondermeer Rysum e.a.\n\n\n\n\nDick heeft een programma van 8 dagen deze keer\, van 18 t/m 25 juni\, variërend van de Veluwe tot Noord Duitsland. Zondag 23 juni is hij ook in het gebied van de Fivel\, maar zijn wij er niet bij. \n\n\n\nHeb je zin om een keer mee te gaan geef je dan bij voorkeur op via info@gaialogie.nl of anders via Zijn blog http://gaialogie.blogspot.nl/ . De Ontmoetingsplaats krijg je te horen na opgave. We verplaatsen ons per auto en lopend. Indien mogelijk carpoolen. Voor de lunch neemt elke deelnemer iets te eten en te drinken mee\, voor de zogenaamd gezamenlijke “pot-Luck” lunch. \n\n\n\nBijdrage: Dick van den Dool hanteert een tarief\, dat afhankelijk is van inkomen/draagkracht. Je rekent rechtstreeks met hem af.Contact: info@gaialogie.nl of http://gaialogie.blogspot.nl/
URL:https://www.centrumdeblauweaarde.nl/evenement/excursies-met-dick-van-den-dool/
LOCATION:Groningen\, Hoofdweg\, Holwierde\, Groningen\, 9905pa\, Nederland
CATEGORIES:geomantie
ATTACH;FMTTYPE=image/jpeg:https://www.centrumdeblauweaarde.nl/winkel/wp-content/uploads/2024/06/meditatieyvnwoestein.jpg
ORGANIZER;CN="Instituut voor Gaialogie":MAILTO:info@gaialogie.nl
END:VEVENT
END:VCALENDAR